BEGIN:VCALENDAR
VERSION:2.0
PRODID:-//Tukios.com/
BEGIN:VEVENT
UID:4026c403-7fcb-4bd3-be25-75e4fbad77ab@www.foleyfuneralhome.net
DTSTAMP:20260422T003333Z
DTSTART:20260427T220000Z
DTEND:20260427T230000Z
SUMMARY:Prayer Service
DESCRIPTION:
URL:https://www.foleyfuneralhome.net/obituaries/richard-rich-smelter
LOCATION: 221 2nd Ave  Foley MN 56329
GEO:45.6638713;-93.9142052
END:VEVENT
END:VCALENDAR