BEGIN:VCALENDAR
VERSION:2.0
PRODID:-//Tukios.com/
BEGIN:VEVENT
UID:8d75385a-3ac6-469b-8bd2-5e288b0b9531@www.foleyfuneralhome.net
DTSTAMP:20260422T003410Z
DTSTART:20260428T180000Z
DTEND:20260428T190000Z
SUMMARY:Burial
DESCRIPTION:
URL:https://www.foleyfuneralhome.net/obituaries/richard-rich-smelter
LOCATION:St. John's Catholic Cemetery 1  Foley MN 56329
GEO:45.568015;-93.9366072
END:VEVENT
END:VCALENDAR