BEGIN:VCALENDAR
VERSION:2.0
PRODID:-//Tukios.com/
BEGIN:VEVENT
UID:02fe1230-fbe3-4159-8e38-0596db180b0d@www.foleyfuneralhome.net
DTSTAMP:20260422T003403Z
DTSTART:20260428T160000Z
DTEND:20260428T170000Z
SUMMARY:Visitation
DESCRIPTION:
URL:https://www.foleyfuneralhome.net/obituaries/richard-rich-smelter
LOCATION: 621 Dewey Street  Foley MN 56329
GEO:45.6662882;-93.9070649
END:VEVENT
END:VCALENDAR