BEGIN:VCALENDAR
VERSION:2.0
PRODID:-//Tukios.com/
BEGIN:VEVENT
UID:1768e15c-ab8d-45e5-af4b-95e001a423f9@www.foleyfuneralhome.net
DTSTAMP:20260422T003539Z
DTSTART:20260427T210000Z
DTEND:20260428T010000Z
SUMMARY:Visitation
DESCRIPTION:
URL:https://www.foleyfuneralhome.net/obituaries/richard-rich-smelter
LOCATION: 221 2nd Ave  Foley MN 56329
GEO:45.6638713;-93.9142052
END:VEVENT
END:VCALENDAR