BEGIN:VCALENDAR
VERSION:2.0
PRODID:-//Tukios.com/
BEGIN:VEVENT
UID:07213594-e378-4b23-9b81-5e46df5f30b2@www.foleyfuneralhome.net
DTSTAMP:20260422T003242Z
DTSTART:20260428T170000Z
DTEND:20260428T180000Z
SUMMARY:Mass
DESCRIPTION:
URL:https://www.foleyfuneralhome.net/obituaries/richard-rich-smelter
LOCATION: 621 Dewey Street  Foley MN 56329
GEO:45.6662882;-93.9070649
END:VEVENT
END:VCALENDAR